BEGIN:VCALENDAR
VERSION:2.0
PRODID:-//Sophicity/Tribune/Homer, GA
BEGIN:VEVENT
DTSTAMP:20260422T014900Z
UID:180c7daf-7ed8-4f35-85de-a06b76d9a09c-4271
DTSTART:20261103T133000Z
DTEND:20261103T143000Z
CLASS:PUBLIC
SUMMARY:Mayor and Council Work Session
END:VEVENT
END:VCALENDAR
