BEGIN:VCALENDAR
VERSION:2.0
PRODID:-//Sophicity/Tribune/Homer, GA
BEGIN:VEVENT
DTSTAMP:20260421T222235Z
UID:180c7daf-7ed8-4f35-85de-a06b76d9a09c-4280
DTSTART:20270803T123000Z
DTEND:20270803T133000Z
CLASS:PUBLIC
SUMMARY:Mayor and Council Work Session
END:VEVENT
END:VCALENDAR
