BEGIN:VCALENDAR
VERSION:2.0
PRODID:-//Sophicity/Tribune/Homer, GA
BEGIN:VEVENT
DTSTAMP:20260422T014900Z
UID:180c7daf-7ed8-4f35-85de-a06b76d9a09c-4282
DTSTART:20271005T123000Z
DTEND:20271005T133000Z
CLASS:PUBLIC
SUMMARY:Mayor and Council Work Session
END:VEVENT
END:VCALENDAR
