BEGIN:VCALENDAR
VERSION:2.0
PRODID:-//Sophicity/Tribune/Homer, GA
BEGIN:VEVENT
DTSTAMP:20260422T020715Z
UID:180c7daf-7ed8-4f35-85de-a06b76d9a09c-4316
DTSTART:20261013T220000Z
DTEND:20261013T230000Z
CLASS:PUBLIC
SUMMARY:Mayor and Council Regular Meeting
END:VEVENT
END:VCALENDAR
