BEGIN:VCALENDAR
VERSION:2.0
PRODID:-//Sophicity/Tribune/Homer, GA
BEGIN:VEVENT
DTSTAMP:20260421T235912Z
UID:180c7daf-7ed8-4f35-85de-a06b76d9a09c-4318
DTSTART:20261208T230000Z
DTEND:20261209T000000Z
CLASS:PUBLIC
SUMMARY:Mayor and Council Regular Meeting
END:VEVENT
END:VCALENDAR
