BEGIN:VCALENDAR
VERSION:2.0
PRODID:-//Sophicity/Tribune/Homer, GA
BEGIN:VEVENT
DTSTAMP:20260421T190241Z
UID:180c7daf-7ed8-4f35-85de-a06b76d9a09c-4323
DTSTART:20270511T220000Z
DTEND:20270511T230000Z
CLASS:PUBLIC
SUMMARY:Mayor and Council Regular Meeting
END:VEVENT
END:VCALENDAR
