BEGIN:VCALENDAR
VERSION:2.0
PRODID:-//Sophicity/Tribune/Homer, GA
BEGIN:VEVENT
DTSTAMP:20260421T222234Z
UID:180c7daf-7ed8-4f35-85de-a06b76d9a09c-4325
DTSTART:20270713T220000Z
DTEND:20270713T230000Z
CLASS:PUBLIC
SUMMARY:Mayor and Council Regular Meeting
END:VEVENT
END:VCALENDAR
