BEGIN:VCALENDAR
VERSION:2.0
PRODID:-//Sophicity/Tribune/Homer, GA
BEGIN:VEVENT
DTSTAMP:20260422T015307Z
UID:180c7daf-7ed8-4f35-85de-a06b76d9a09c-4327
DTSTART:20270914T220000Z
DTEND:20270914T230000Z
CLASS:PUBLIC
SUMMARY:Mayor and Council Regular Meeting
END:VEVENT
END:VCALENDAR
