BEGIN:VCALENDAR
VERSION:2.0
PRODID:-//Sophicity/Tribune/Homer, GA
BEGIN:VEVENT
DTSTAMP:20260422T033120Z
UID:180c7daf-7ed8-4f35-85de-a06b76d9a09c-4329
DTSTART:20271109T230000Z
DTEND:20271110T000000Z
CLASS:PUBLIC
SUMMARY:Mayor and Council Regular Meeting
END:VEVENT
END:VCALENDAR
