BEGIN:VCALENDAR
VERSION:2.0
PRODID:-//Sophicity/Tribune/Homer, GA
BEGIN:VEVENT
DTSTAMP:20260421T190641Z
UID:180c7daf-7ed8-4f35-85de-a06b76d9a09c-4331
DTSTART:20260705T013000Z
DTEND:20260705T020000Z
LOCATION:Banks Co Rec. Dept Thompson St
CLASS:PUBLIC
SUMMARY:Homer Fire Dept Fireworks
END:VEVENT
END:VCALENDAR
