BEGIN:VCALENDAR
VERSION:2.0
PRODID:-//Sophicity/Tribune/Homer, GA
BEGIN:VEVENT
DTSTAMP:20260421T210348Z
UID:180c7daf-7ed8-4f35-85de-a06b76d9a09c-4332
DTSTART:20260725T140000Z
DTEND:20260725T150000Z
LOCATION:Downtown Square
CLASS:PUBLIC
SUMMARY:Sunday School Celebration
END:VEVENT
END:VCALENDAR
